BEGIN:VCALENDAR
VERSION:2.0
PRODID:-//TCNA - ECPv6.15.20//NONSGML v1.0//EN
CALSCALE:GREGORIAN
METHOD:PUBLISH
X-ORIGINAL-URL:https://mytcna.org
X-WR-CALDESC:Events for TCNA
REFRESH-INTERVAL;VALUE=DURATION:PT1H
X-Robots-Tag:noindex
X-PUBLISHED-TTL:PT1H
BEGIN:VTIMEZONE
TZID:UTC
BEGIN:STANDARD
TZOFFSETFROM:+0000
TZOFFSETTO:+0000
TZNAME:UTC
DTSTART:20210101T000000
END:STANDARD
END:VTIMEZONE
BEGIN:VEVENT
DTSTART;TZID=UTC:20221001T174500
DTEND;TZID=UTC:20221001T190000
DTSTAMP:20260422T155221
CREATED:20170713T130641Z
LAST-MODIFIED:20230219T210932Z
UID:312-1664646300-1664650800@mytcna.org
SUMMARY:Quran Competition and Community dinner
DESCRIPTION:Part of our activities is a monthly dinner for the community\, so that we can know each other in this blessed gathering and strengthen our community communications. This month we have the Quran Competition and the community dinner on Saturday Oct. 1st\, 2022 at the Tawheed Center of Novi.\nPlease bookmark your calendar and plan to join us with your family and support Masjed activities and enjoy your time with your brothers.\nThe Quran Competition will start after Asr at 5:45pm whereas dinner will be served after Maghrib Prayer at 7:20 pm. Please note that dinner fees will be $50 for families and $20 for individuals.\nPlease Register for the Quran Competition and for the Community dinner at links provided below. \nYour name *Your email *Number of KidsNumber of AdultsNumber of GuestsAttendantsFamily ($50)Individual ($25)individual costFamily costPayment MethodPay at the EventPay Activity *Pay Now
URL:https://mytcna.org/event/quran-cc-dinner/
LOCATION:Tawheed Center of Novi\, 24101 Novi Rd\, Novi\, MI\, 48375\, United States
ATTACH;FMTTYPE=image/png:https://mytcna.org/wp-content/uploads/2023/02/Feb-Month.png
ORGANIZER;CN="TCNA":MAILTO:info@mytcna.org
END:VEVENT
END:VCALENDAR